{
 "currentVersion": 10.81,
 "serviceDescription": "Ortofotokarte 2. cikls krāsaina (RGB); \nM 1:4 000 000- 1:1 000; \n19.06.2021.;",
 "mapName": "Layers",
 "description": "",
 "copyrightText": "© Latvijas Ģeotelpiskās informācijas aģentūra",
 "supportsDynamicLayers": true,
 "layers": [
  {
   "id": 0,
   "name": "Ortofotokarte 2.cikls (RGB)",
   "parentLayerId": -1,
   "defaultVisibility": true,
   "subLayerIds": [
    1,
    2,
    3
   ],
   "minScale": 0,
   "maxScale": 0,
   "type": "Mosaic Layer"
  },
  {
   "id": 1,
   "name": "Boundary",
   "parentLayerId": 0,
   "defaultVisibility": false,
   "subLayerIds": null,
   "minScale": 0,
   "maxScale": 0,
   "type": "Feature Layer",
   "geometryType": "esriGeometryPolygon"
  },
  {
   "id": 2,
   "name": "Footprint",
   "parentLayerId": 0,
   "defaultVisibility": false,
   "subLayerIds": null,
   "minScale": 0,
   "maxScale": 0,
   "type": "Feature Layer",
   "geometryType": "esriGeometryPolygon"
  },
  {
   "id": 3,
   "name": "Image",
   "parentLayerId": 0,
   "defaultVisibility": true,
   "subLayerIds": null,
   "minScale": 0,
   "maxScale": 0,
   "type": "Raster Layer"
  }
 ],
 "tables": [],
 "spatialReference": {
  "wkid": 3059,
  "latestWkid": 3059
 },
 "singleFusedMapCache": true,
 "tileInfo": {
  "rows": 256,
  "cols": 256,
  "dpi": 96,
  "format": "MIXED",
  "compressionQuality": 75,
  "origin": {
   "x": -5120900,
   "y": 3998100
  },
  "spatialReference": {
   "wkid": 3059,
   "latestWkid": 3059
  },
  "lods": [
   {
    "level": 0,
    "resolution": 1058.3354500042335,
    "scale": 4000000
   },
   {
    "level": 1,
    "resolution": 529.1677250021168,
    "scale": 2000000
   },
   {
    "level": 2,
    "resolution": 264.5838625010584,
    "scale": 1000000
   },
   {
    "level": 3,
    "resolution": 198.43789687579377,
    "scale": 750000
   },
   {
    "level": 4,
    "resolution": 132.2919312505292,
    "scale": 500000
   },
   {
    "level": 5,
    "resolution": 66.1459656252646,
    "scale": 250000
   },
   {
    "level": 6,
    "resolution": 26.458386250105836,
    "scale": 100000
   },
   {
    "level": 7,
    "resolution": 19.843789687579378,
    "scale": 75000
   },
   {
    "level": 8,
    "resolution": 13.229193125052918,
    "scale": 50000
   },
   {
    "level": 9,
    "resolution": 6.614596562526459,
    "scale": 25000
   },
   {
    "level": 10,
    "resolution": 2.6458386250105836,
    "scale": 10000
   },
   {
    "level": 11,
    "resolution": 1.3229193125052918,
    "scale": 5000
   },
   {
    "level": 12,
    "resolution": 0.5291677250021167,
    "scale": 2000
   },
   {
    "level": 13,
    "resolution": 0.26458386250105836,
    "scale": 1000
   }
  ]
 },
 "initialExtent": {
  "xmin": 198350.31702898548,
  "ymin": 239399.7961956522,
  "xmax": 879149.6829710145,
  "ymax": 507661.79800724646,
  "spatialReference": {
   "wkid": 3059,
   "latestWkid": 3059
  }
 },
 "fullExtent": {
  "xmin": 312500,
  "ymin": 170000,
  "xmax": 765000,
  "ymax": 440000,
  "spatialReference": {
   "wkid": 3059,
   "latestWkid": 3059
  }
 },
 "minScale": 4000000,
 "maxScale": 1000,
 "minLOD": 0,
 "maxLOD": 13,
 "units": "esriMeters",
 "supportedImageFormatTypes": "PNG32,PNG24,PNG,JPG,DIB,TIFF,EMF,PS,PDF,GIF,SVG,SVGZ,BMP",
 "documentInfo": {
  "Title": "2. cikls krāsaina (RGB)",
  "Author": "© Latvijas Ģeotelpiskās informācijas aģentūra",
  "Comments": "Ortofotokarte 2. cikls krāsaina (RGB); \nM 1:4 000 000- 1:1 000; \n19.06.2021.;",
  "Subject": "2003.-2005.g.",
  "Category": "",
  "AntialiasingMode": "None",
  "TextAntialiasingMode": "Force",
  "Keywords": "ortofotokarte; fona karte; rgb"
 },
 "capabilities": "Map,Query,Data",
 "supportedQueryFormats": "JSON, geoJSON",
 "exportTilesAllowed": false,
 "referenceScale": 0,
 "supportsDatumTransformation": true,
 "maxRecordCount": 1000,
 "maxImageHeight": 4096,
 "maxImageWidth": 4096,
 "supportedExtensions": "WMSServer",
 "resampling": false
}
